BEGIN:VCALENDAR
VERSION:2.0
PRODID:-//Alianta - Strengthening the Romanian American Alliance - ECPv6.15.20//NONSGML v1.0//EN
CALSCALE:GREGORIAN
METHOD:PUBLISH
X-WR-CALNAME:Alianta - Strengthening the Romanian American Alliance
X-ORIGINAL-URL:https://alianta.org
X-WR-CALDESC:Events for Alianta - Strengthening the Romanian American Alliance
REFRESH-INTERVAL;VALUE=DURATION:PT1H
X-Robots-Tag:noindex
X-PUBLISHED-TTL:PT1H
BEGIN:VTIMEZONE
TZID:America/New_York
BEGIN:DAYLIGHT
TZOFFSETFROM:-0500
TZOFFSETTO:-0400
TZNAME:EDT
DTSTART:20210314T070000
END:DAYLIGHT
BEGIN:STANDARD
TZOFFSETFROM:-0400
TZOFFSETTO:-0500
TZNAME:EST
DTSTART:20211107T060000
END:STANDARD
BEGIN:DAYLIGHT
TZOFFSETFROM:-0500
TZOFFSETTO:-0400
TZNAME:EDT
DTSTART:20220313T070000
END:DAYLIGHT
BEGIN:STANDARD
TZOFFSETFROM:-0400
TZOFFSETTO:-0500
TZNAME:EST
DTSTART:20221106T060000
END:STANDARD
BEGIN:DAYLIGHT
TZOFFSETFROM:-0500
TZOFFSETTO:-0400
TZNAME:EDT
DTSTART:20230312T070000
END:DAYLIGHT
BEGIN:STANDARD
TZOFFSETFROM:-0400
TZOFFSETTO:-0500
TZNAME:EST
DTSTART:20231105T060000
END:STANDARD
END:VTIMEZONE
BEGIN:VEVENT
DTSTART;TZID=America/New_York:20220710T100000
DTEND;TZID=America/New_York:20220710T160000
DTSTAMP:20260424T151211
CREATED:20220706T230449Z
LAST-MODIFIED:20220706T230932Z
UID:3075-1657447200-1657468800@alianta.org
SUMMARY:Romanian Weekend at The Wharf
DESCRIPTION:Discover Romania this weekend at the Wharf!\n  \nSaturday\, July 9 and Sunday\, July 10\, bring your family to a Romanian extravaganza at The Wharf. Music\, dance\, food\, wine\, spoken word performances\, and craft shows will transport this beautiful country straight to DC. \nDistrict Pier will host FREE concerts with some of Romania’s most fascinating artists: the Techno Witches\, a rap group\, brilliantly repackaging Roma culture into a modern sound\, with lyrics that touch on social justice\, witchcraft\, technology\, feminism\, love\, and other themes; Corina Sîrghi & Taraful Jean Americanu – an all-acoustic ensemble of virtuoso musicians performing both traditional and popular urban folklore pieces; and Ana Everling Trio\, an act fusing Eastern European music with Brazilian and Afro-influenced rhythms\, courtesy of master guitarist Edinho Gerber and percussionist Luiz Everling. \nThroughout the day\, the Transylvania National Folk Ensemble will perform traditional dances\, music and will exhibit traditional outfits and crafts in the nearby tents.\nThe main stage will also feature the DC-based\, all-volunteer Carpathia Folk Dance ensemble. Spoken word performances by well-known Romanian-American authors Cristina A. Bejan\, Domnica Radulescu\, Elena Secota and Adela Sinclair will be interspersed throughout the program. \nThroughout the weekend\, you will also have the opportunity to visit activity tents: “Dancing at the Barn” for dance workshops\, “The Potter’s House” for pottery demonstrations with master potter Daniel Les\, “Our Story Carved in Wood” for wood carving demonstrations with sculptor Petrică Codrea and “Does Tradition Fit You”\, an interactive folk costume exhibition where visitors can try the intricate traditional costumes themselves. Other fun activities include the “Romanian Literature in America” booth for book lovers; the “Gateway to Romanian traditions” booth to learn about ethno-tourism opportunities in Maramureș; the “Maramureș Photo Booth” for fun selfies; and last but not least\, “The Taste of Romania” tent with a selection of Romanian food and wines to try and buy. \nFor full info and detailed schedule go to: https://bit.ly/3xYkW0w \nRomanian Weekend at The Wharf Schedule \nSunday\, July 10\, 2:00 PM – 8:30 PM \n2:00 PM – Welcome to the Romanian Weekend at THE WHARF\n2:15 PM – Folk music and dances from Maramureș County by “Transylvania” Ensemble\n2:45 PM – Spoken word performances by Domnica Rădulescu and Adela Sinclair\, presented by Bucharest Inside the Beltway\n3:00 PM – Romanian traditional dances by Carpathia Folk Dance Ensemble\n3:45 PM – Folk music and dances from Maramureș County by “Transylvania” Ensemble\n4:15 PM – Spoken word performances by Cristina A. Bejan and Elena Secotă\, presented by Bucharest Inside the Beltway\n5:00 PM – Romanian traditional dances by Carpathia Folk Dance Ensemble\n5:25 PM – Romanian community moment dedicated to the Universal Day of the Romanian Blouse\, organized by Romanians of DC\n5:30 PM – Folk music and dances from Maramureș County by “Transylvania” Ensemble\n6:15 PM – Urban folklore concert by Corina Sîrghi & Taraful Jean Americanu (Shaun Williams aka Jean Americanu – accordion\, Laurențiu Feraru – violin\, Ciprian Răducanu – double bass)\, joined by special guest Nicolae Feraru\, cimbalom virtuoso and NEA National Heritage Fellow\n7:30 PM – Rap/trap concert by Tehno-Vrăjitoarele (Techno-Witches) Niko G. & Kali \nIN THE TENTS: \nSunday\, July 10\, 2 PM – 6 PM\nDancing at the Barn. Join the round dance! – Dance workshops\nThe Potter’s House. Spin the potter’s wheel! – Pottery demonstrations with Daniel Leș\nOur Story Carved in Wood – Wood carving demonstrations with Petrică Codrea\nFolk Costumes. Does tradition fit you? – Folk costumes exhibition\nMaramureș Photo Booth. Let time freeze and say cheese! – Photo opportunity\nVisit Maramureș\, Gateway to Romanian traditions! – Learn more about Romania & plan a visit\nThe Taste of Romania. Europe’s map in one bite! – A selection of Romanian foods\nThe Joy of Romanian Wines. Drinkable happiness! – A selection of gorgeous wines to try and buy\nRomanian Literature in America – A showcase of recent books by Romanian-American authors & spoken word performances curated and managed by Bucharest inside the Beltway (BiB) \n 
URL:https://alianta.org/event/romanian-weekend-at-the-wharf-2/
LOCATION:The Wharf\, 101 District Square SW\, Washington\, DC\, 20024\, United States
CATEGORIES:Partner Events
ATTACH;FMTTYPE=image/jpeg:https://alianta.org/wp-content/uploads/2022/07/image001-2.jpg
END:VEVENT
BEGIN:VEVENT
DTSTART;TZID=America/New_York:20220709T080000
DTEND;TZID=America/New_York:20220709T160000
DTSTAMP:20260424T151211
CREATED:20220706T225845Z
LAST-MODIFIED:20220706T231034Z
UID:3072-1657353600-1657382400@alianta.org
SUMMARY:Romanian Weekend at The Wharf
DESCRIPTION:Discover Romania this weekend at the Wharf!\n  \nSaturday\, July 9 and Sunday\, July 10\, bring your family to a Romanian extravaganza at The Wharf. Music\, dance\, food\, wine\, spoken word performances\, and craft shows will transport this beautiful country straight to DC. \nDistrict Pier will host FREE concerts with some of Romania’s most fascinating artists: the Techno Witches\, a rap group\, brilliantly repackaging Roma culture into a modern sound\, with lyrics that touch on social justice\, witchcraft\, technology\, feminism\, love\, and other themes; Corina Sîrghi & Taraful Jean Americanu – an all-acoustic ensemble of virtuoso musicians performing both traditional and popular urban folklore pieces; and Ana Everling Trio\, an act fusing Eastern European music with Brazilian and Afro-influenced rhythms\, courtesy of master guitarist Edinho Gerber and percussionist Luiz Everling. \nThroughout the day\, the Transylvania National Folk Ensemble will perform traditional dances\, music and will exhibit traditional outfits and crafts in the nearby tents.\nThe main stage will also feature the DC-based\, all-volunteer Carpathia Folk Dance ensemble. Spoken word performances by well-known Romanian-American authors Cristina A. Bejan\, Domnica Radulescu\, Elena Secota and Adela Sinclair will be interspersed throughout the program. \nThroughout the weekend\, you will also have the opportunity to visit activity tents: “Dancing at the Barn” for dance workshops\, “The Potter’s House” for pottery demonstrations with master potter Daniel Les\, “Our Story Carved in Wood” for wood carving demonstrations with sculptor Petrică Codrea and “Does Tradition Fit You”\, an interactive folk costume exhibition where visitors can try the intricate traditional costumes themselves. Other fun activities include the “Romanian Literature in America” booth for book lovers; the “Gateway to Romanian traditions” booth to learn about ethno-tourism opportunities in Maramureș; the “Maramureș Photo Booth” for fun selfies; and last but not least\, “The Taste of Romania” tent with a selection of Romanian food and wines to try and buy. \nFor full info and detailed schedule go to: https://bit.ly/3xYkW0w \nRomanian Weekend at The Wharf Schedule \nSaturday\, July 9\, 12 PM – 9 PM \n12 PM – Welcome to the Romanian Weekend at THE WHARF\n12:15 PM – Folk music and dances from Maramureș County by “Transylvania” Ensemble\n1:00 PM – Romanian traditional dances by Carpathia Folk Dance Ensemble\n1:45 PM – Folk music and dances from Maramureș County by “Transylvania” Ensemble\n2:15 PM – Spoken word performances by Domnica Rădulescu and Adela Sinclair\, presented by Bucharest Inside the Beltway\n3:00 PM – Concert by Ana Everling Trio (Chicago-based Moldovan vocal musician Ana Everling\, joined by Luiz Everling on percussion and Brazilian master Edinho Gerber on guitar)\n3:45 PM – Folk music and dances from Maramureș County by “Transylvania” Ensemble\n4:15 PM – Spoken word performances by Cristina A. Bejan and Elena Secotă\, presented by Bucharest Inside the Beltway\n4:30 PM – Romanian traditional dances by Carpathia Folk Dance Ensemble\n5:15 PM – Folk music and dances from Maramureș County by “Transylvania” Ensemble\n6:00 PM – Concert by Ana Everling Trio (Chicago-based Moldovan vocal musician Ana Everling\, joined by Luiz Everling on percussion and Brazilian master Edinho Gerber on guitar)\n7:15 PM – Urban folklore concert by Corina Sîrghi & Taraful Jean Americanu (Shaun Williams aka Jean Americanu – accordion\, Laurențiu Feraru – violin\, Ciprian Răducanu – double bass)\, joined by special guest Nicolae Feraru\, cimbalom virtuoso and NEA National Heritage Fellow\n8:15 PM – Rap/trap concert by Tehno-Vrăjitoarele (Techno-Witches) Niko G. & Kali \n  \nIN THE TENTS: \nSaturday\, July 9\, 12 PM – 6 PM\nDancing at the Barn. Join the round dance! – Dance workshops\nThe Potter’s House. Spin the potter’s wheel! – Pottery demonstrations with Daniel Leș\nOur Story Carved in Wood – Wood carving demonstrations with Petrică Codrea\nFolk Costumes. Does tradition fit you? – Folk costumes exhibition\nMaramureș Photo Booth. Let time freeze and say cheese! – Photo opportunity\nVisit Maramureș\, Gateway to Romanian traditions! – Learn more about Romania & plan a visit\nThe Taste of Romania. Europe’s map in one bite! – A selection of Romanian foods\nThe Joy of Romanian Wines. Drinkable happiness! – A selection of gorgeous wines to try and buy\nRomanian Literature in America – A showcase of recent books by Romanian-American authors & spoken word performances curated and managed by Bucharest inside the Beltway (BiB) \n 
URL:https://alianta.org/event/romanian-weekend-at-the-wharf/
LOCATION:The Wharf\, 101 District Square SW\, Washington\, DC\, 20024\, United States
CATEGORIES:Partner Events
ATTACH;FMTTYPE=image/jpeg:https://alianta.org/wp-content/uploads/2022/07/image001-2.jpg
END:VEVENT
END:VCALENDAR